BEGIN:VCALENDAR
VERSION:2.0
PRODID:-//Asocolflores - ECPv5.10.0//NONSGML v1.0//EN
CALSCALE:GREGORIAN
METHOD:PUBLISH
X-WR-CALNAME:Asocolflores
X-ORIGINAL-URL:https://asocolflores.org
X-WR-CALDESC:Eventos para Asocolflores
BEGIN:VTIMEZONE
TZID:America/Bogota
BEGIN:STANDARD
TZOFFSETFROM:-0500
TZOFFSETTO:-0500
TZNAME:-05
DTSTART:20220101T000000
END:STANDARD
END:VTIMEZONE
BEGIN:VEVENT
DTSTART;TZID=America/Bogota:20220210T080000
DTEND;TZID=America/Bogota:20220210T110000
DTSTAMP:20260421T072609
CREATED:20220208T202000Z
LAST-MODIFIED:20220222T164506Z
UID:4519-1644480000-1644490800@asocolflores.org
SUMMARY:AMCHAM invita a Perspectivas de las Economías de Colombia – Estados Unidos. 
DESCRIPTION:
URL:https://asocolflores.org/evento/amcham-invita-a-perspectivas-de-las-economias-de-colombia-estados-unidos/
LOCATION:Interactivos\, cra 5 # 55\, Cartagena\, Bolivar\, 130006\, Colombia
ATTACH;FMTTYPE=image/jpeg:https://asocolflores.org/wp-content/uploads/2022/02/DzIS3DPW0AEQN-9.jpg
END:VEVENT
END:VCALENDAR