BEGIN:VCALENDAR
VERSION:2.0
PRODID:-//Asocolflores - ECPv5.10.0//NONSGML v1.0//EN
CALSCALE:GREGORIAN
METHOD:PUBLISH
X-WR-CALNAME:Asocolflores
X-ORIGINAL-URL:https://asocolflores.org
X-WR-CALDESC:Eventos para Asocolflores
BEGIN:VTIMEZONE
TZID:America/Bogota
BEGIN:STANDARD
TZOFFSETFROM:-0500
TZOFFSETTO:-0500
TZNAME:-05
DTSTART:20230101T000000
END:STANDARD
END:VTIMEZONE
BEGIN:VEVENT
DTSTART;TZID=America/Bogota:20231120T080000
DTEND;TZID=America/Bogota:20231120T100000
DTSTAMP:20260421T034926
CREATED:20231114T203541Z
LAST-MODIFIED:20231114T203549Z
UID:8263-1700467200-1700474400@asocolflores.org
SUMMARY:Segunda sesión: Perspectivas Económicas y Cambiarias
DESCRIPTION:
URL:https://asocolflores.org/evento/segunda-sesion-perspectivas-economicas-y-cambiarias/
LOCATION:Interactivos\, cra 5 # 55\, Cartagena\, Bolivar\, 130006\, Colombia
ORGANIZER;CN="Manuel%20Ayala":MAILTO:blewn@interactivos123.com
END:VEVENT
END:VCALENDAR