BEGIN:VCALENDAR
VERSION:2.0
PRODID:-//Asocolflores - ECPv5.10.0//NONSGML v1.0//EN
CALSCALE:GREGORIAN
METHOD:PUBLISH
X-WR-CALNAME:Asocolflores
X-ORIGINAL-URL:https://asocolflores.org
X-WR-CALDESC:Eventos para Asocolflores
BEGIN:VTIMEZONE
TZID:America/Bogota
BEGIN:STANDARD
TZOFFSETFROM:-0500
TZOFFSETTO:-0500
TZNAME:-05
DTSTART:20220101T000000
END:STANDARD
END:VTIMEZONE
BEGIN:VEVENT
DTSTART;TZID=America/Bogota:20220216T150000
DTEND;TZID=America/Bogota:20220216T170000
DTSTAMP:20260421T091521
CREATED:20220208T202850Z
LAST-MODIFIED:20220208T202850Z
UID:4528-1645023600-1645030800@asocolflores.org
SUMMARY:WFFSA invita a serie de seminarios de la web la ganar la guerra por el talento
DESCRIPTION:Algunas organizaciones no están preparadas para manejar los desafíos de un mercado laboral cada vez más complejo. WFFSA los invita a una serie de seis seminarios web que brindará información clave diseñada para ayudar a los líderes empresariales y a los tomadores de decisiones a elevar sus actividades centradas en el talento.  \nEn este primero de seis seminarios web\, abrirá el telón de la industria del reclutamiento y enfatizará la necesidad de asociaciones y alianzas.  \nFecha: 16 de febrero de 2022 Hora: 15:00-15:30 Hora del este (EE. UU. y Canadá) 
URL:https://asocolflores.org/evento/wffsa-invita-a-serie-de-seminarios-de-la-web-la-ganar-la-guerra-por-el-talento/
LOCATION:Interactivos\, cra 5 # 55\, Cartagena\, Bolivar\, 130006\, Colombia
ATTACH;FMTTYPE=image/jpeg:https://asocolflores.org/wp-content/uploads/2022/02/WFFSA_logo_2C-300x181-1.jpg
END:VEVENT
END:VCALENDAR