BEGIN:VCALENDAR
VERSION:2.0
PRODID:-//Asocolflores - ECPv5.10.0//NONSGML v1.0//EN
CALSCALE:GREGORIAN
METHOD:PUBLISH
X-WR-CALNAME:Asocolflores
X-ORIGINAL-URL:https://asocolflores.org
X-WR-CALDESC:Events for Asocolflores
BEGIN:VTIMEZONE
TZID:America/Bogota
BEGIN:STANDARD
TZOFFSETFROM:-0500
TZOFFSETTO:-0500
TZNAME:-05
DTSTART:20210101T000000
END:STANDARD
END:VTIMEZONE
BEGIN:VEVENT
DTSTART;TZID=America/Bogota:20211028T000000
DTEND;TZID=America/Bogota:20211031T235900
DTSTAMP:20260423T045952
CREATED:20211029T033259Z
LAST-MODIFIED:20211221T215242Z
UID:3948-1635379200-1635724740@asocolflores.org
SUMMARY:Feria de las flores
DESCRIPTION:Texto de prueba Texto de prueba Texto de prueba Texto de prueba Texto de prueba Texto de prueba Texto de prueba Texto de prueba Texto de prueba Texto de prueba Texto de prueba Texto de prueba Texto de prueba Texto de prueba Texto de prueba Texto de prueba Texto de prueba Texto de prueba Texto de prueba Texto de prueba Texto de prueba Texto de prueba Texto de prueba Texto de prueba Texto de prueba Texto de prueba Texto de prueba Texto de prueba Texto de prueba Texto de prueba Texto de prueba Texto de prueba Texto de prueba Texto de prueba Texto de \n 
URL:https://asocolflores.org/evento/feria-de-las-flores/
LOCATION:Interactivos\, cra 5 # 55\, Cartagena\, Bolivar\, 130006\, Colombia
ATTACH;FMTTYPE=image/jpeg:https://asocolflores.org/wp-content/uploads/2021/10/evento-7.jpg
ORGANIZER;CN="Manuel%20Ayala":MAILTO:blewn@interactivos123.com
END:VEVENT
END:VCALENDAR