BEGIN:VCALENDAR
VERSION:2.0
PRODID:-//Asocolflores - ECPv5.10.0//NONSGML v1.0//EN
CALSCALE:GREGORIAN
METHOD:PUBLISH
X-WR-CALNAME:Asocolflores
X-ORIGINAL-URL:https://asocolflores.org
X-WR-CALDESC:Events for Asocolflores
BEGIN:VTIMEZONE
TZID:America/Bogota
BEGIN:STANDARD
TZOFFSETFROM:-0500
TZOFFSETTO:-0500
TZNAME:-05
DTSTART:20230101T000000
END:STANDARD
END:VTIMEZONE
BEGIN:VEVENT
DTSTART;VALUE=DATE:20230201
DTEND;VALUE=DATE:20230401
DTSTAMP:20260423T104007
CREATED:20230222T181705Z
LAST-MODIFIED:20230222T183952Z
UID:6473-1675209600-1680307199@asocolflores.org
SUMMARY:Plan Integral de Formación Febrero - Marzo
DESCRIPTION: 
URL:https://asocolflores.org/evento/plan-integral-de-formacion-febrero-marzo/
LOCATION:Interactivos\, cra 5 # 55\, Cartagena\, Bolivar\, 130006\, Colombia
ATTACH;FMTTYPE=image/png:https://asocolflores.org/wp-content/uploads/2023/02/1-8.png
END:VEVENT
BEGIN:VEVENT
DTSTART;TZID=America/Bogota:20230313T090000
DTEND;TZID=America/Bogota:20230317T170000
DTSTAMP:20260423T104007
CREATED:20230118T015035Z
LAST-MODIFIED:20230118T015830Z
UID:6168-1678698000-1679072400@asocolflores.org
SUMMARY:Dianthus Week - Colombia 2023
DESCRIPTION:
URL:https://asocolflores.org/evento/dianthus-week-colombia-2023/
LOCATION:Bogotá\, 12 calle 123\, Cuc\, 540001\, Colombia
ATTACH;FMTTYPE=image/png:https://asocolflores.org/wp-content/uploads/2023/01/Captura-de-Pantalla-2023-01-17-a-las-8.49.21-p.m..png
END:VEVENT
BEGIN:VEVENT
DTSTART;VALUE=DATE:20230315
DTEND;VALUE=DATE:20230316
DTSTAMP:20260423T104007
CREATED:20230301T131647Z
LAST-MODIFIED:20230301T132224Z
UID:6487-1678838400-1678924799@asocolflores.org
SUMMARY:Capacitación operador económico autorizado -OEA
DESCRIPTION:2023-2-7_Capacitación OEA
URL:https://asocolflores.org/evento/capacitacion-operador-economico-autorizado-oea/
LOCATION:Interactivos\, cra 5 # 55\, Cartagena\, Bolivar\, 130006\, Colombia
ATTACH;FMTTYPE=image/png:https://asocolflores.org/wp-content/uploads/2023/03/1.png
END:VEVENT
BEGIN:VEVENT
DTSTART;TZID=America/Bogota:20230315T143000
DTEND;TZID=America/Bogota:20230315T163000
DTSTAMP:20260423T104007
CREATED:20230307T121844Z
LAST-MODIFIED:20230307T122019Z
UID:6496-1678890600-1678897800@asocolflores.org
SUMMARY:Nutrición eficiente para cultivos de ornamentales (Musáceas\, Heliconias\, Hortensias\, Gérberas y Follaies Tropicales)
DESCRIPTION:
URL:https://asocolflores.org/evento/nutricion-eficiente-para-cultivos-de-ornamentales-musaceas-heliconias-hortensias-gerberas-y-follaies-tropicales/
LOCATION:Interactivos\, cra 5 # 55\, Cartagena\, Bolivar\, 130006\, Colombia
ATTACH;FMTTYPE=image/jpeg:https://asocolflores.org/wp-content/uploads/2023/03/1.jpg
END:VEVENT
END:VCALENDAR