BEGIN:VCALENDAR
VERSION:2.0
PRODID:-//Asocolflores - ECPv5.10.0//NONSGML v1.0//EN
CALSCALE:GREGORIAN
METHOD:PUBLISH
X-WR-CALNAME:Asocolflores
X-ORIGINAL-URL:https://asocolflores.org
X-WR-CALDESC:Events for Asocolflores
BEGIN:VTIMEZONE
TZID:America/Bogota
BEGIN:STANDARD
TZOFFSETFROM:-0500
TZOFFSETTO:-0500
TZNAME:-05
DTSTART:20230101T000000
END:STANDARD
END:VTIMEZONE
BEGIN:VEVENT
DTSTART;VALUE=DATE:20230201
DTEND;VALUE=DATE:20230401
DTSTAMP:20260423T104012
CREATED:20230222T181705Z
LAST-MODIFIED:20230222T183952Z
UID:6473-1675209600-1680307199@asocolflores.org
SUMMARY:Plan Integral de Formación Febrero - Marzo
DESCRIPTION: 
URL:https://asocolflores.org/evento/plan-integral-de-formacion-febrero-marzo/
LOCATION:Interactivos\, cra 5 # 55\, Cartagena\, Bolivar\, 130006\, Colombia
ATTACH;FMTTYPE=image/png:https://asocolflores.org/wp-content/uploads/2023/02/1-8.png
END:VEVENT
BEGIN:VEVENT
DTSTART;TZID=America/Bogota:20230324T090000
DTEND;TZID=America/Bogota:20230324T110000
DTSTAMP:20260423T104012
CREATED:20230322T153204Z
LAST-MODIFIED:20230322T160448Z
UID:6570-1679648400-1679655600@asocolflores.org
SUMMARY:Comité laboral: Perspectivas y Desafíos de la Reforma Laboral
DESCRIPTION:
URL:https://asocolflores.org/evento/comite-laboral-perspectivas-y-desafios-de-la-reforma-laboral/
LOCATION:Interactivos\, cra 5 # 55\, Cartagena\, Bolivar\, 130006\, Colombia
ATTACH;FMTTYPE=image/png:https://asocolflores.org/wp-content/uploads/2023/03/Captura-de-Pantalla-2023-03-22-a-las-10.33.05-a.m..png
END:VEVENT
END:VCALENDAR