BEGIN:VCALENDAR
VERSION:2.0
PRODID:-//Asocolflores - ECPv5.10.0//NONSGML v1.0//EN
CALSCALE:GREGORIAN
METHOD:PUBLISH
X-WR-CALNAME:Asocolflores
X-ORIGINAL-URL:https://asocolflores.org
X-WR-CALDESC:Events for Asocolflores
BEGIN:VTIMEZONE
TZID:America/Bogota
BEGIN:STANDARD
TZOFFSETFROM:-0500
TZOFFSETTO:-0500
TZNAME:-05
DTSTART:20230101T000000
END:STANDARD
END:VTIMEZONE
BEGIN:VEVENT
DTSTART;VALUE=DATE:20230601
DTEND;VALUE=DATE:20231103
DTSTAMP:20260423T135749
CREATED:20230524T133142Z
LAST-MODIFIED:20230524T133149Z
UID:6995-1685577600-1698969599@asocolflores.org
SUMMARY:First Learners Webinar Series - CIOPORA ACADEMY
DESCRIPTION:
URL:https://asocolflores.org/evento/first-learners-webinar-series-ciopora-academy/
LOCATION:Interactivos\, cra 5 # 55\, Cartagena\, Bolivar\, 130006\, Colombia
END:VEVENT
BEGIN:VEVENT
DTSTART;TZID=America/Bogota:20230904T080000
DTEND;TZID=America/Bogota:20230908T100000
DTSTAMP:20260423T135749
CREATED:20230830T143636Z
LAST-MODIFIED:20230830T145114Z
UID:7496-1693814400-1694167200@asocolflores.org
SUMMARY:
DESCRIPTION:
URL:https://asocolflores.org/evento/7496/
LOCATION:Interactivos\, cra 5 # 55\, Cartagena\, Bolivar\, 130006\, Colombia
END:VEVENT
BEGIN:VEVENT
DTSTART;VALUE=DATE:20230906
DTEND;VALUE=DATE:20230910
DTSTAMP:20260423T135749
CREATED:20230524T132844Z
LAST-MODIFIED:20230524T132852Z
UID:6992-1693958400-1694303999@asocolflores.org
SUMMARY:Convención Anual PHOENIX - SAF
DESCRIPTION:
URL:https://asocolflores.org/evento/convencion-anual-phoenix-saf/
LOCATION:Interactivos\, cra 5 # 55\, Cartagena\, Bolivar\, 130006\, Colombia
END:VEVENT
BEGIN:VEVENT
DTSTART;VALUE=DATE:20230906
DTEND;VALUE=DATE:20230909
DTSTAMP:20260423T135749
CREATED:20230816T124100Z
LAST-MODIFIED:20230816T124107Z
UID:7355-1693958400-1694217599@asocolflores.org
SUMMARY:Edición 38 Congreso internacional de TIC - ANDICOM 2023
DESCRIPTION:
URL:https://asocolflores.org/evento/edicion-38-congreso-internacional-de-tic-andicom-2023/
LOCATION:Interactivos\, cra 5 # 55\, Cartagena\, Bolivar\, 130006\, Colombia
END:VEVENT
END:VCALENDAR