BEGIN:VCALENDAR
VERSION:2.0
PRODID:-//Asocolflores - ECPv5.10.0//NONSGML v1.0//EN
CALSCALE:GREGORIAN
METHOD:PUBLISH
X-WR-CALNAME:Asocolflores
X-ORIGINAL-URL:https://asocolflores.org
X-WR-CALDESC:Events for Asocolflores
BEGIN:VTIMEZONE
TZID:America/Bogota
BEGIN:STANDARD
TZOFFSETFROM:-0500
TZOFFSETTO:-0500
TZNAME:-05
DTSTART:20240101T000000
END:STANDARD
END:VTIMEZONE
BEGIN:VEVENT
DTSTART;TZID=America/Bogota:20240920T080000
DTEND;TZID=America/Bogota:20240920T100000
DTSTAMP:20260423T081938
CREATED:20240913T150443Z
LAST-MODIFIED:20240913T150443Z
UID:10559-1726819200-1726826400@asocolflores.org
SUMMARY:Alcances de los derechos de obtentor de variedades vegetales
DESCRIPTION:
URL:https://asocolflores.org/evento/alcances-de-los-derechos-de-obtentor-de-variedades-vegetales/
END:VEVENT
END:VCALENDAR