BEGIN:VCALENDAR
VERSION:2.0
PRODID:-//Asocolflores - ECPv5.10.0//NONSGML v1.0//EN
CALSCALE:GREGORIAN
METHOD:PUBLISH
X-WR-CALNAME:Asocolflores
X-ORIGINAL-URL:https://asocolflores.org
X-WR-CALDESC:Events for Asocolflores
BEGIN:VTIMEZONE
TZID:America/Bogota
BEGIN:STANDARD
TZOFFSETFROM:-0500
TZOFFSETTO:-0500
TZNAME:-05
DTSTART:20220101T000000
END:STANDARD
END:VTIMEZONE
BEGIN:VEVENT
DTSTART;VALUE=DATE:20220307
DTEND;VALUE=DATE:20220310
DTSTAMP:20260423T150204
CREATED:20220208T210737Z
LAST-MODIFIED:20220208T210737Z
UID:4540-1646611200-1646870399@asocolflores.org
SUMMARY:7 y 9 de marzo WFFSA invita a Floral Distribution Conference 2022
DESCRIPTION:
URL:https://asocolflores.org/evento/7-y-9-de-marzo-wffsa-invita-a-floral-distribution-conference-2022/
LOCATION:Interactivos\, cra 5 # 55\, Cartagena\, Bolivar\, 130006\, Colombia
ATTACH;FMTTYPE=image/png:https://asocolflores.org/wp-content/uploads/2022/02/Sin-titulo-2.png
END:VEVENT
BEGIN:VEVENT
DTSTART;TZID=America/Bogota:20220308T140000
DTEND;TZID=America/Bogota:20220308T170000
DTSTAMP:20260423T150204
CREATED:20220208T205253Z
LAST-MODIFIED:20220208T205253Z
UID:4536-1646748000-1646758800@asocolflores.org
SUMMARY:SAF invita a seminario virtual “Estrategias para acelerar las entregas”
DESCRIPTION:La entrega es un componente clave del negocio de las floristerías minoristas porque ofrece a los consumidores una comodidad y da a las floristerías una ventaja competitiva. Descubra cómo establecer zonas y tarifas de entrega\, hacer un seguimiento de la productividad de los conductores y contratar conductores de calidad.   \nFecha: 8 de marzo de 2022\nHora: 2:00 p.m. Hora del este (EE. UU. y Canadá) 
URL:https://asocolflores.org/evento/saf-invita-a-seminario-virtual-estrategias-para-acelerar-las-entregas/
LOCATION:Interactivos\, cra 5 # 55\, Cartagena\, Bolivar\, 130006\, Colombia
ATTACH;FMTTYPE=image/png:https://asocolflores.org/wp-content/uploads/2022/02/SAF_Consumer_logo_600.png
END:VEVENT
BEGIN:VEVENT
DTSTART;TZID=America/Bogota:20220315T140000
DTEND;TZID=America/Bogota:20220315T160000
DTSTAMP:20260423T150204
CREATED:20220208T211019Z
LAST-MODIFIED:20220208T211019Z
UID:4548-1647352800-1647360000@asocolflores.org
SUMMARY:SAF invita a Seminario web “Información sobre los resultados de IPSOS y las encuestas de perspectivas económicas”
DESCRIPTION:Las incertidumbres económicas continúan a medida que la pandemia de COVID-19 entra en su tercer año de interrupción del trabajo y la cadena de suministro\, lo que está aumentando los costos. ¿Cómo afectarán esos factores a la industria floral este año? El economista Charlie Hall\, Ph.D\, y presidente de la cátedra Ellison de floricultura en la Universidad Texas A&M\, compartirá su perspectiva económica\, incluida información sobre la inflación\, y analizará los resultados de la encuesta del Día de San Valentín de la Sociedad de Floristas Estadounidenses realizada por IPSOS.  \nFecha: 15 de marzo de 2022\nHora: 2:00 p.m. Hora del este (EE. UU. y Canadá) 
URL:https://asocolflores.org/evento/saf-invita-a-seminario-web-informacion-sobre-los-resultados-de-ipsos-y-las-encuestas-de-perspectivas-economicas/
LOCATION:Interactivos\, cra 5 # 55\, Cartagena\, Bolivar\, 130006\, Colombia
ATTACH;FMTTYPE=image/png:https://asocolflores.org/wp-content/uploads/2022/02/descarga-2.png
END:VEVENT
BEGIN:VEVENT
DTSTART;VALUE=DATE:20220328
DTEND;VALUE=DATE:20220330
DTSTAMP:20260423T150204
CREATED:20220208T211619Z
LAST-MODIFIED:20220208T211619Z
UID:4552-1648425600-1648598399@asocolflores.org
SUMMARY:28 y 29 de marzo SAF invita a 42nd Anual Congressional Action Days
DESCRIPTION:
URL:https://asocolflores.org/evento/28-y-29-de-marzo-saf-invita-a-42nd-anual-congressional-action-days/
LOCATION:Interactivos\, cra 5 # 55\, Cartagena\, Bolivar\, 130006\, Colombia
ATTACH;FMTTYPE=image/png:https://asocolflores.org/wp-content/uploads/2022/02/descarga-2.png
END:VEVENT
BEGIN:VEVENT
DTSTART;TZID=America/Bogota:20220331T140000
DTEND;TZID=America/Bogota:20220331T170000
DTSTAMP:20260423T150204
CREATED:20220330T212041Z
LAST-MODIFIED:20220330T212041Z
UID:4852-1648735200-1648746000@asocolflores.org
SUMMARY:Show Floral en Popayán Cauca
DESCRIPTION:
URL:https://asocolflores.org/evento/show-floral-en-popayan-cauca/
LOCATION:Interactivos\, cra 5 # 55\, Cartagena\, Bolivar\, 130006\, Colombia
END:VEVENT
END:VCALENDAR