BEGIN:VCALENDAR
VERSION:2.0
PRODID:-//Asocolflores - ECPv5.10.0//NONSGML v1.0//EN
CALSCALE:GREGORIAN
METHOD:PUBLISH
X-WR-CALNAME:Asocolflores
X-ORIGINAL-URL:https://asocolflores.org
X-WR-CALDESC:Events for Asocolflores
BEGIN:VTIMEZONE
TZID:America/Bogota
BEGIN:STANDARD
TZOFFSETFROM:-0500
TZOFFSETTO:-0500
TZNAME:-05
DTSTART:20230101T000000
END:STANDARD
END:VTIMEZONE
BEGIN:VEVENT
DTSTART;TZID=America/Bogota:20230412T080000
DTEND;TZID=America/Bogota:20230413T170000
DTSTAMP:20260423T071303
CREATED:20230411T213254Z
LAST-MODIFIED:20230411T213521Z
UID:6741-1681286400-1681405200@asocolflores.org
SUMMARY:Jornada de seguridad para el sector floricultor
DESCRIPTION:Capacitación en temas de Seguridad para el sector floricultor \nLink de Conexión: https://teams.microsoft.com/l/meetup-join/19%3ameeting_N2M4MDI2OWItM2ExNC00ZGE1LWJmNTItNjY2ODFlNjhjMzRj%40thread.v2/0?context=%7b%22Tid%22%3a%2298425bce-2bca-479c-b5e2-40b0299d2ece%22%2c%22Oid%22%3a%22028f9c44-515d-4c86-ad98-8549b233f8ad%22%7d  \nCiberseguridad en las operaciones de comercio exterior Organizada por CCB \nLink de conexión: ZOOM https://zoom.us/webinar/register/WN_jz0WqsuERSiU7QEL56zAJg
URL:https://asocolflores.org/evento/jornada-de-seguridad-para-el-sector-floricultor/
LOCATION:Interactivos\, cra 5 # 55\, Cartagena\, Bolivar\, 130006\, Colombia
END:VEVENT
BEGIN:VEVENT
DTSTART;TZID=America/Bogota:20230418T090000
DTEND;TZID=America/Bogota:20230418T230000
DTSTAMP:20260423T071303
CREATED:20230411T212506Z
LAST-MODIFIED:20230411T213730Z
UID:6738-1681808400-1681858800@asocolflores.org
SUMMARY:Comité facilitación de carga madres 2023
DESCRIPTION:Link de conexión: https://teams.microsoft.com/l/meetup-join/19%3ameeting_ZTRiZWVkOGUtY2Y0NS00NGUxLWFiZjktZWZkNmY4NzQwMTFj%40thread.v2/0?context=%7b%22Tid%22%3a%22af640fe3-3c77-422e-83a3-282525198d0b%22%2c%22Oid%22%3a%2292449a87-8aa0-4d90-a2bc-9293b2fa119a%22%7d
URL:https://asocolflores.org/evento/comite-facilitacion-de-carga-madres-2023/
LOCATION:Interactivos\, cra 5 # 55\, Cartagena\, Bolivar\, 130006\, Colombia
END:VEVENT
BEGIN:VEVENT
DTSTART;TZID=America/Bogota:20230425T140000
DTEND;TZID=America/Bogota:20230425T153000
DTSTAMP:20260423T071303
CREATED:20230417T151633Z
LAST-MODIFIED:20230417T152005Z
UID:6784-1682431200-1682436600@asocolflores.org
SUMMARY:Webinar: Reforma laboral y Floricultura
DESCRIPTION:
URL:https://asocolflores.org/evento/webinar-reforma-laboral-y-floricultura/
LOCATION:Interactivos\, cra 5 # 55\, Cartagena\, Bolivar\, 130006\, Colombia
END:VEVENT
BEGIN:VEVENT
DTSTART;TZID=America/Bogota:20230426T143000
DTEND;TZID=America/Bogota:20230426T163000
DTSTAMP:20260423T071303
CREATED:20230420T172004Z
LAST-MODIFIED:20230420T172016Z
UID:6801-1682519400-1682526600@asocolflores.org
SUMMARY:Conferencia Virtual - Microorganismos para potenciar la producción vegetal
DESCRIPTION:
URL:https://asocolflores.org/evento/conferencia-virtual-microorganismos-para-potenciar-la-produccion-vegetal/
LOCATION:Interactivos\, cra 5 # 55\, Cartagena\, Bolivar\, 130006\, Colombia
END:VEVENT
BEGIN:VEVENT
DTSTART;VALUE=DATE:20230427
DTEND;VALUE=DATE:20230429
DTSTAMP:20260423T071303
CREATED:20230417T150643Z
LAST-MODIFIED:20230417T151507Z
UID:6781-1682553600-1682726399@asocolflores.org
SUMMARY:15 Congreso Nacional y 7 Internacional de Compostaje
DESCRIPTION:
URL:https://asocolflores.org/evento/15-congreso-nacional-y-7-internacional-de-compostaje/
LOCATION:Interactivos\, cra 5 # 55\, Cartagena\, Bolivar\, 130006\, Colombia
END:VEVENT
BEGIN:VEVENT
DTSTART;TZID=America/Bogota:20230427T143000
DTEND;TZID=America/Bogota:20230427T163000
DTSTAMP:20260423T071303
CREATED:20230417T150404Z
LAST-MODIFIED:20230417T150404Z
UID:6778-1682605800-1682613000@asocolflores.org
SUMMARY:Portafolio de servicios del Laboratorio CAR (Investigación y Desarollo)
DESCRIPTION:
URL:https://asocolflores.org/evento/portafolio-de-servicios-del-laboratorio-car-investigacion-y-desarollo/
LOCATION:Interactivos\, cra 5 # 55\, Cartagena\, Bolivar\, 130006\, Colombia
END:VEVENT
END:VCALENDAR