BEGIN:VCALENDAR
VERSION:2.0
PRODID:-//Asocolflores - ECPv5.10.0//NONSGML v1.0//EN
CALSCALE:GREGORIAN
METHOD:PUBLISH
X-WR-CALNAME:Asocolflores
X-ORIGINAL-URL:https://asocolflores.org
X-WR-CALDESC:Events for Asocolflores
BEGIN:VTIMEZONE
TZID:America/Bogota
BEGIN:STANDARD
TZOFFSETFROM:-0500
TZOFFSETTO:-0500
TZNAME:-05
DTSTART:20230101T000000
END:STANDARD
END:VTIMEZONE
BEGIN:VEVENT
DTSTART;VALUE=DATE:20230601
DTEND;VALUE=DATE:20231103
DTSTAMP:20260423T071247
CREATED:20230524T133142Z
LAST-MODIFIED:20230524T133149Z
UID:6995-1685577600-1698969599@asocolflores.org
SUMMARY:First Learners Webinar Series - CIOPORA ACADEMY
DESCRIPTION:
URL:https://asocolflores.org/evento/first-learners-webinar-series-ciopora-academy/
LOCATION:Interactivos\, cra 5 # 55\, Cartagena\, Bolivar\, 130006\, Colombia
END:VEVENT
BEGIN:VEVENT
DTSTART;TZID=America/Bogota:20230607T090000
DTEND;TZID=America/Bogota:20230607T110000
DTSTAMP:20260423T071247
CREATED:20230601T165455Z
LAST-MODIFIED:20230601T165506Z
UID:7100-1686128400-1686135600@asocolflores.org
SUMMARY:Comité laboral: ¿Cómo va la reforma laboral? Tercerización\, estabilidad laboral y desafíos colectivos
DESCRIPTION:
URL:https://asocolflores.org/evento/comite-laboral-como-va-la-reforma-laboral-tercerizacion-estabilidad-laboral-y-desafios-colectivos/
LOCATION:Interactivos\, cra 5 # 55\, Cartagena\, Bolivar\, 130006\, Colombia
ORGANIZER;CN="Manuel%20Ayala":MAILTO:blewn@interactivos123.com
END:VEVENT
BEGIN:VEVENT
DTSTART;TZID=America/Bogota:20230607T100000
DTEND;TZID=America/Bogota:20230607T120000
DTSTAMP:20260423T071247
CREATED:20230531T142548Z
LAST-MODIFIED:20230531T142548Z
UID:7091-1686132000-1686139200@asocolflores.org
SUMMARY:Charla: socialización del POMCA Río Bogotá
DESCRIPTION:
URL:https://asocolflores.org/evento/charla-socializacion-del-pomca-rio-bogota/
LOCATION:Interactivos\, cra 5 # 55\, Cartagena\, Bolivar\, 130006\, Colombia
END:VEVENT
BEGIN:VEVENT
DTSTART;TZID=America/Bogota:20230608T100000
DTEND;TZID=America/Bogota:20230608T120000
DTSTAMP:20260423T071247
CREATED:20230531T142330Z
LAST-MODIFIED:20230531T142330Z
UID:7088-1686218400-1686225600@asocolflores.org
SUMMARY:Plan de Inversiones de ENEL Colombia en la Sabana de Cundinamarca
DESCRIPTION:Inscríbase aquí: \nhttps://docs.google.com/forms/d/e/1FAIpQLSc3b7mDW-h1-VNRleWtjqDGSObeQtsy_HQtstj4BO_F55RY7Q/viewform
URL:https://asocolflores.org/evento/plan-de-inversiones-de-enel-colombia-en-la-sabana-de-cundinamarca-2/
LOCATION:Interactivos\, cra 5 # 55\, Cartagena\, Bolivar\, 130006\, Colombia
END:VEVENT
BEGIN:VEVENT
DTSTART;TZID=America/Bogota:20230613T090000
DTEND;TZID=America/Bogota:20230613T110000
DTSTAMP:20260423T071247
CREATED:20230601T141819Z
LAST-MODIFIED:20230601T141834Z
UID:7095-1686646800-1686654000@asocolflores.org
SUMMARY:Lanzamiento programa de internacionalización 2023: Amcham Colombia
DESCRIPTION:
URL:https://asocolflores.org/evento/lanzamiento-programa-de-internacionalizacion-2023-amcham-colombia/
LOCATION:Interactivos\, cra 5 # 55\, Cartagena\, Bolivar\, 130006\, Colombia
END:VEVENT
BEGIN:VEVENT
DTSTART;TZID=America/Bogota:20230621T080000
DTEND;TZID=America/Bogota:20230621T130000
DTSTAMP:20260423T071247
CREATED:20230605T142042Z
LAST-MODIFIED:20230605T142052Z
UID:7103-1687334400-1687352400@asocolflores.org
SUMMARY:I - Encuentro Empresarial ¡Región Sabana\, Símbolo de Seguridad y Confianza!  Convoca - Policía Nacional de Colombia Región Metropolitana de Policía La Sabana. “REMSA”
DESCRIPTION:
URL:https://asocolflores.org/evento/i-encuentro-empresarial-region-sabana-simbolo-de-seguridad-y-confianza-convoca-policia-nacional-de-colombia-region-metropolitana-de-policia-la-sabana-remsa/
LOCATION:Interactivos\, cra 5 # 55\, Cartagena\, Bolivar\, 130006\, Colombia
END:VEVENT
BEGIN:VEVENT
DTSTART;TZID=America/Bogota:20230622T070000
DTEND;TZID=America/Bogota:20230622T130000
DTSTAMP:20260423T071247
CREATED:20230418T131019Z
LAST-MODIFIED:20230503T130651Z
UID:6795-1687417200-1687438800@asocolflores.org
SUMMARY:Encuentro de Bioinsumos: Herramientas de hoy para el futuro de las flores
DESCRIPTION:
URL:https://asocolflores.org/evento/encuentro-de-bioinsumos-herramientas-de-hoy-para-el-futuro-de-las-flores/
LOCATION:Interactivos\, cra 5 # 55\, Cartagena\, Bolivar\, 130006\, Colombia
END:VEVENT
BEGIN:VEVENT
DTSTART;TZID=America/Bogota:20230629T090000
DTEND;TZID=America/Bogota:20230629T110000
DTSTAMP:20260423T071247
CREATED:20230621T005637Z
LAST-MODIFIED:20230621T005830Z
UID:7155-1688029200-1688036400@asocolflores.org
SUMMARY:Webinar ENEL: superando juntos las anomalías de la red eléctrica
DESCRIPTION:Conexión: https://youtube.com/live/jL12lRv8Kcg?feature=share \nRegístrate aquí: https://bit.ly/462ZHux
URL:https://asocolflores.org/evento/webinar-enel-superando-juntos-las-anomalias-de-la-red-electrica/
LOCATION:Interactivos\, cra 5 # 55\, Cartagena\, Bolivar\, 130006\, Colombia
END:VEVENT
END:VCALENDAR