BEGIN:VCALENDAR
VERSION:2.0
PRODID:-//Asocolflores - ECPv5.10.0//NONSGML v1.0//EN
CALSCALE:GREGORIAN
METHOD:PUBLISH
X-WR-CALNAME:Asocolflores
X-ORIGINAL-URL:https://asocolflores.org
X-WR-CALDESC:Events for Asocolflores
BEGIN:VTIMEZONE
TZID:America/Bogota
BEGIN:STANDARD
TZOFFSETFROM:-0500
TZOFFSETTO:-0500
TZNAME:-05
DTSTART:20230101T000000
END:STANDARD
END:VTIMEZONE
BEGIN:VEVENT
DTSTART;VALUE=DATE:20230601
DTEND;VALUE=DATE:20231103
DTSTAMP:20260423T152721
CREATED:20230524T133142Z
LAST-MODIFIED:20230524T133149Z
UID:6995-1685577600-1698969599@asocolflores.org
SUMMARY:First Learners Webinar Series - CIOPORA ACADEMY
DESCRIPTION:
URL:https://asocolflores.org/evento/first-learners-webinar-series-ciopora-academy/
LOCATION:Interactivos\, cra 5 # 55\, Cartagena\, Bolivar\, 130006\, Colombia
END:VEVENT
BEGIN:VEVENT
DTSTART;TZID=America/Bogota:20231102T140000
DTEND;TZID=America/Bogota:20231102T160000
DTSTAMP:20260423T152721
CREATED:20231025T133702Z
LAST-MODIFIED:20231025T140735Z
UID:8169-1698933600-1698940800@asocolflores.org
SUMMARY:Seminario técnico de fitoprotección en cultivo de flores y follajes.
DESCRIPTION:
URL:https://asocolflores.org/evento/seminario-tecnico-de-fitoproteccion-en-cultivo-de-flores-y-follajes/
LOCATION:Interactivos\, cra 5 # 55\, Cartagena\, Bolivar\, 130006\, Colombia
END:VEVENT
BEGIN:VEVENT
DTSTART;VALUE=DATE:20231107
DTEND;VALUE=DATE:20231108
DTSTAMP:20260423T152721
CREATED:20230906T143548Z
LAST-MODIFIED:20230906T143548Z
UID:7565-1699315200-1699401599@asocolflores.org
SUMMARY:Christmas & Love Flower Show
DESCRIPTION:
URL:https://asocolflores.org/evento/christmas-love-flower-show/
LOCATION:Interactivos\, cra 5 # 55\, Cartagena\, Bolivar\, 130006\, Colombia
END:VEVENT
BEGIN:VEVENT
DTSTART;TZID=America/Bogota:20231114T080000
DTEND;TZID=America/Bogota:20231114T100000
DTSTAMP:20260423T152721
CREATED:20231108T133528Z
LAST-MODIFIED:20231108T134919Z
UID:8239-1699948800-1699956000@asocolflores.org
SUMMARY:Conferencia: Taller de Coberturas modernas y perspectivas económicas.
DESCRIPTION:
URL:https://asocolflores.org/evento/conferencia-taller-de-coberturas-modernas-y-perspectivas-economicas/
LOCATION:Colombia\, Colombia
END:VEVENT
BEGIN:VEVENT
DTSTART;TZID=America/Bogota:20231120T080000
DTEND;TZID=America/Bogota:20231120T100000
DTSTAMP:20260423T152721
CREATED:20231114T203541Z
LAST-MODIFIED:20231114T203549Z
UID:8263-1700467200-1700474400@asocolflores.org
SUMMARY:Segunda sesión: Perspectivas Económicas y Cambiarias
DESCRIPTION:
URL:https://asocolflores.org/evento/segunda-sesion-perspectivas-economicas-y-cambiarias/
LOCATION:Interactivos\, cra 5 # 55\, Cartagena\, Bolivar\, 130006\, Colombia
ORGANIZER;CN="Manuel%20Ayala":MAILTO:blewn@interactivos123.com
END:VEVENT
BEGIN:VEVENT
DTSTART;TZID=America/Bogota:20231121T080000
DTEND;TZID=America/Bogota:20231121T100000
DTSTAMP:20260423T152721
CREATED:20231108T133346Z
LAST-MODIFIED:20231108T133353Z
UID:8236-1700553600-1700560800@asocolflores.org
SUMMARY:Taller: Evaluación de seguridad y buenas prácticas de refrigeración para sistemas de refrigeración tipo cuartos fríos con R290.
DESCRIPTION:
URL:https://asocolflores.org/evento/taller-evaluacion-de-seguridad-y-buenas-practicas-de-refrigeracion-para-sistemas-de-refrigeracion-tipo-cuartos-frios-con-r290/
LOCATION:Colombia\, Colombia
END:VEVENT
BEGIN:VEVENT
DTSTART;TZID=America/Bogota:20231121T080000
DTEND;TZID=America/Bogota:20231121T100000
DTSTAMP:20260423T152721
CREATED:20231114T203833Z
LAST-MODIFIED:20231114T203839Z
UID:8265-1700553600-1700560800@asocolflores.org
SUMMARY:Conferencia: Estrategias de coberturas modernas y perspectivas económicas.
DESCRIPTION:
URL:https://asocolflores.org/evento/conferencia-estrategias-de-coberturas-modernas-y-perspectivas-economicas/
LOCATION:Interactivos\, cra 5 # 55\, Cartagena\, Bolivar\, 130006\, Colombia
END:VEVENT
END:VCALENDAR