BEGIN:VCALENDAR
VERSION:2.0
PRODID:-//Asocolflores - ECPv5.10.0//NONSGML v1.0//EN
CALSCALE:GREGORIAN
METHOD:PUBLISH
X-WR-CALNAME:Asocolflores
X-ORIGINAL-URL:https://asocolflores.org
X-WR-CALDESC:Events for Asocolflores
BEGIN:VTIMEZONE
TZID:America/Bogota
BEGIN:STANDARD
TZOFFSETFROM:-0500
TZOFFSETTO:-0500
TZNAME:-05
DTSTART:20240101T000000
END:STANDARD
END:VTIMEZONE
BEGIN:VEVENT
DTSTART;TZID=America/Bogota:20240606T140000
DTEND;TZID=America/Bogota:20240606T160000
DTSTAMP:20260423T114028
CREATED:20240605T115406Z
LAST-MODIFIED:20240605T115406Z
UID:9612-1717682400-1717689600@asocolflores.org
SUMMARY:IV Encuentro Fitosanitario Sector Floricultor
DESCRIPTION: 
URL:https://asocolflores.org/evento/iv-encuentro-fitosanitario-sector-floricultor/
LOCATION:Interactivos\, cra 5 # 55\, Cartagena\, Bolivar\, 130006\, Colombia
END:VEVENT
BEGIN:VEVENT
DTSTART;VALUE=DATE:20240620
DTEND;VALUE=DATE:20240621
DTSTAMP:20260423T114028
CREATED:20240605T115827Z
LAST-MODIFIED:20240605T115827Z
UID:9617-1718841600-1718927999@asocolflores.org
SUMMARY:2do Encuentro de Bioinsumos
DESCRIPTION:
URL:https://asocolflores.org/evento/2do-encuentro-de-bioinsumos/
LOCATION:Interactivos\, cra 5 # 55\, Cartagena\, Bolivar\, 130006\, Colombia
END:VEVENT
END:VCALENDAR