BEGIN:VCALENDAR
VERSION:2.0
PRODID:-//Asocolflores - ECPv5.10.0//NONSGML v1.0//EN
CALSCALE:GREGORIAN
METHOD:PUBLISH
X-WR-CALNAME:Asocolflores
X-ORIGINAL-URL:https://asocolflores.org
X-WR-CALDESC:Events for Asocolflores
BEGIN:VTIMEZONE
TZID:America/Bogota
BEGIN:STANDARD
TZOFFSETFROM:-0500
TZOFFSETTO:-0500
TZNAME:-05
DTSTART:20240101T000000
END:STANDARD
END:VTIMEZONE
BEGIN:VEVENT
DTSTART;VALUE=DATE:20240903
DTEND;VALUE=DATE:20240908
DTSTAMP:20260423T063333
CREATED:20240812T213407Z
LAST-MODIFIED:20240812T213407Z
UID:10178-1725321600-1725753599@asocolflores.org
SUMMARY:AIPH Anual Congress
DESCRIPTION:
URL:https://asocolflores.org/evento/aiph-anual-congress/
END:VEVENT
BEGIN:VEVENT
DTSTART;TZID=America/Bogota:20240905T080000
DTEND;TZID=America/Bogota:20240905T100000
DTSTAMP:20260423T063333
CREATED:20240814T173031Z
LAST-MODIFIED:20240814T173106Z
UID:10254-1725523200-1725530400@asocolflores.org
SUMMARY:Conferencia: Efectos de la documentación electrónica y las nuevas tecnologías
DESCRIPTION:
URL:https://asocolflores.org/evento/conferencia-efector-de-la-documentacion-electronica-y-las-nuevas-tecnologias/
END:VEVENT
BEGIN:VEVENT
DTSTART;TZID=America/Bogota:20240920T080000
DTEND;TZID=America/Bogota:20240920T100000
DTSTAMP:20260423T063333
CREATED:20240913T150443Z
LAST-MODIFIED:20240913T150443Z
UID:10559-1726819200-1726826400@asocolflores.org
SUMMARY:Alcances de los derechos de obtentor de variedades vegetales
DESCRIPTION:
URL:https://asocolflores.org/evento/alcances-de-los-derechos-de-obtentor-de-variedades-vegetales/
END:VEVENT
END:VCALENDAR